BEGIN:VCALENDAR
PRODID:-//eluceo/ical//2.0/EN
VERSION:2.0
CALSCALE:GREGORIAN
BEGIN:VEVENT
UID:event-1213
DTSTAMP:20260422T145643Z
SUMMARY:Excel Training
DESCRIPTION:Join our ready-to-go Excel workshop where you’ll learn the b
 asics and best practices for Excel. In this workshop\, we will dive into m
 odeling via Excel and learn some useful cheat codes. The workshop is prese
 nted by Staan Finance. It is strongly recommended to have basic knowledge
  of Excel You should bring your own laptop for this training. The training
  is open for anybody to sign up. There is no participation fee.
DTSTART:20260511T113000Z
DTEND:20260511T153000Z
END:VEVENT
BEGIN:VTIMEZONE
TZID:UTC
BEGIN:STANDARD
DTSTART:20260511T113000
TZNAME:UTC
TZOFFSETTO:+0000
TZOFFSETFROM:+0000
END:STANDARD
END:VTIMEZONE
END:VCALENDAR
